BEGIN:VCALENDAR
VERSION:2.0
PRODID:-//Winston Knolls II - ECPv5.14.1//NONSGML v1.0//EN
CALSCALE:GREGORIAN
METHOD:PUBLISH
X-WR-CALNAME:Winston Knolls II
X-ORIGINAL-URL:http://winstonknolls.org
X-WR-CALDESC:Events for Winston Knolls II
BEGIN:VTIMEZONE
TZID:America/Halifax
BEGIN:DAYLIGHT
TZOFFSETFROM:-0400
TZOFFSETTO:-0300
TZNAME:ADT
DTSTART:20170312T060000
END:DAYLIGHT
BEGIN:STANDARD
TZOFFSETFROM:-0300
TZOFFSETTO:-0400
TZNAME:AST
DTSTART:20171105T050000
END:STANDARD
END:VTIMEZONE
BEGIN:VEVENT
DTSTART;TZID=America/Halifax:20171115T190000
DTEND;TZID=America/Halifax:20171115T200000
DTSTAMP:20260423T105808
CREATED:20171013T012720Z
LAST-MODIFIED:20171013T012720Z
UID:165-1510772400-1510776000@winstonknolls.org
SUMMARY:2017 Annual HOA Meeting
DESCRIPTION:
URL:http://winstonknolls.org/meetings-events/2017-annual-hoa-meeting/
END:VEVENT
END:VCALENDAR