BEGIN:VCALENDAR
VERSION:2.0
PRODID:-//Winston Knolls II - ECPv5.14.1//NONSGML v1.0//EN
CALSCALE:GREGORIAN
METHOD:PUBLISH
X-WR-CALNAME:Winston Knolls II
X-ORIGINAL-URL:http://winstonknolls.org
X-WR-CALDESC:Events for Winston Knolls II
BEGIN:VTIMEZONE
TZID:UTC
BEGIN:STANDARD
TZOFFSETFROM:+0000
TZOFFSETTO:+0000
TZNAME:UTC
DTSTART:20170101T000000
END:STANDARD
END:VTIMEZONE
BEGIN:VEVENT
DTSTART;TZID=UTC:20170725T190000
DTEND;TZID=UTC:20170725T210000
DTSTAMP:20260423T143103
CREATED:20170505T133905Z
LAST-MODIFIED:20170622T015332Z
UID:38-1501009200-1501016400@winstonknolls.org
SUMMARY:HOA Board of Directors Meeting
DESCRIPTION:
URL:http://winstonknolls.org/meetings-events/board-meeting/
LOCATION:Club House\, 8873 Applecross Lane  \, Springfield\, VA\, United States
END:VEVENT
END:VCALENDAR