BEGIN:VCALENDAR
VERSION:2.0
PRODID:-//Winston Knolls II - ECPv5.14.1//NONSGML v1.0//EN
CALSCALE:GREGORIAN
METHOD:PUBLISH
X-WR-CALNAME:Winston Knolls II
X-ORIGINAL-URL:http://winstonknolls.org
X-WR-CALDESC:Events for Winston Knolls II
BEGIN:VTIMEZONE
TZID:UTC
BEGIN:STANDARD
TZOFFSETFROM:+0000
TZOFFSETTO:+0000
TZNAME:UTC
DTSTART:20180101T000000
END:STANDARD
END:VTIMEZONE
BEGIN:VEVENT
DTSTART;TZID=UTC:20180131T190000
DTEND;TZID=UTC:20180131T200000
DTSTAMP:20260423T091340
CREATED:20171205T221628Z
LAST-MODIFIED:20180128T222415Z
UID:171-1517425200-1517428800@winstonknolls.org
SUMMARY:HOA Board of Directors Meeting (1Q 2018)
DESCRIPTION:
URL:http://winstonknolls.org/meetings-events/hoa-board-of-directors-meeting-1q-2018/
LOCATION:Jeff Lins’ Home
END:VEVENT
END:VCALENDAR