BEGIN:VCALENDAR
VERSION:2.0
PRODID:-//Winston Knolls II - ECPv5.14.1//NONSGML v1.0//EN
CALSCALE:GREGORIAN
METHOD:PUBLISH
X-WR-CALNAME:Winston Knolls II
X-ORIGINAL-URL:http://winstonknolls.org
X-WR-CALDESC:Events for Winston Knolls II
BEGIN:VTIMEZONE
TZID:UTC
BEGIN:STANDARD
TZOFFSETFROM:+0000
TZOFFSETTO:+0000
TZNAME:UTC
DTSTART:20180101T000000
END:STANDARD
END:VTIMEZONE
BEGIN:VEVENT
DTSTART;VALUE=DATE:20180612
DTEND;VALUE=DATE:20180613
DTSTAMP:20260423T031556
CREATED:20180605T020227Z
LAST-MODIFIED:20180605T020227Z
UID:227-1528761600-1528847999@winstonknolls.org
SUMMARY:Primary Election Day
DESCRIPTION:
URL:http://winstonknolls.org/meetings-events/primary-election-day/
END:VEVENT
END:VCALENDAR