BEGIN:VCALENDAR
VERSION:2.0
PRODID:-//Winston Knolls II - ECPv5.14.1//NONSGML v1.0//EN
CALSCALE:GREGORIAN
METHOD:PUBLISH
X-WR-CALNAME:Winston Knolls II
X-ORIGINAL-URL:http://winstonknolls.org
X-WR-CALDESC:Events for Winston Knolls II
BEGIN:VTIMEZONE
TZID:UTC
BEGIN:STANDARD
TZOFFSETFROM:+0000
TZOFFSETTO:+0000
TZNAME:UTC
DTSTART:20200101T000000
END:STANDARD
END:VTIMEZONE
BEGIN:VEVENT
DTSTART;TZID=UTC:20200721T190000
DTEND;TZID=UTC:20200721T200000
DTSTAMP:20260421T225339
CREATED:20200903T011505Z
LAST-MODIFIED:20200903T011632Z
UID:354-1595358000-1595361600@winstonknolls.org
SUMMARY:Quarterly HOA Board Meeting
DESCRIPTION:
URL:http://winstonknolls.org/meetings-events/quarterly-hoa-board-meeting-10/
END:VEVENT
END:VCALENDAR