BEGIN:VCALENDAR
VERSION:2.0
PRODID:-//Winston Knolls II - ECPv5.14.1//NONSGML v1.0//EN
CALSCALE:GREGORIAN
METHOD:PUBLISH
X-WR-CALNAME:Winston Knolls II
X-ORIGINAL-URL:http://winstonknolls.org
X-WR-CALDESC:Events for Winston Knolls II
BEGIN:VTIMEZONE
TZID:UTC
BEGIN:STANDARD
TZOFFSETFROM:+0000
TZOFFSETTO:+0000
TZNAME:UTC
DTSTART:20180101T000000
END:STANDARD
END:VTIMEZONE
BEGIN:VEVENT
DTSTART;TZID=UTC:20180710T190000
DTEND;TZID=UTC:20180710T203000
DTSTAMP:20260422T221311
CREATED:20180513T200209Z
LAST-MODIFIED:20180513T200209Z
UID:221-1531249200-1531254600@winstonknolls.org
SUMMARY:Quarterly HOA Board Meeting
DESCRIPTION:
URL:http://winstonknolls.org/meetings-events/quarterly-hoa-board-meeting-2/
LOCATION:Jeff Lins’ Home
END:VEVENT
END:VCALENDAR