BEGIN:VCALENDAR
VERSION:2.0
PRODID:-//Winston Knolls II - ECPv5.14.1//NONSGML v1.0//EN
CALSCALE:GREGORIAN
METHOD:PUBLISH
X-WR-CALNAME:Winston Knolls II
X-ORIGINAL-URL:http://winstonknolls.org
X-WR-CALDESC:Events for Winston Knolls II
BEGIN:VTIMEZONE
TZID:UTC
BEGIN:STANDARD
TZOFFSETFROM:+0000
TZOFFSETTO:+0000
TZNAME:UTC
DTSTART:20200101T000000
END:STANDARD
END:VTIMEZONE
BEGIN:VEVENT
DTSTART;TZID=UTC:20200120T190000
DTEND;TZID=UTC:20200120T200000
DTSTAMP:20260422T023624
CREATED:20191219T032126Z
LAST-MODIFIED:20191219T032126Z
UID:322-1579546800-1579550400@winstonknolls.org
SUMMARY:Quarterly HOA Board Meeting
DESCRIPTION:
URL:http://winstonknolls.org/meetings-events/quarterly-hoa-board-meeting-7/
LOCATION:Dennis Kurre’s Home\, 8812 Hayload Ct\, Springfield\, VA\, United States
END:VEVENT
END:VCALENDAR