BEGIN:VCALENDAR
VERSION:2.0
PRODID:-//Winston Knolls II - ECPv5.14.1//NONSGML v1.0//EN
CALSCALE:GREGORIAN
METHOD:PUBLISH
X-WR-CALNAME:Winston Knolls II
X-ORIGINAL-URL:http://winstonknolls.org
X-WR-CALDESC:Events for Winston Knolls II
BEGIN:VTIMEZONE
TZID:UTC
BEGIN:STANDARD
TZOFFSETFROM:+0000
TZOFFSETTO:+0000
TZNAME:UTC
DTSTART:20180101T000000
END:STANDARD
END:VTIMEZONE
BEGIN:VEVENT
DTSTART;TZID=UTC:20180609T143000
DTEND;TZID=UTC:20180609T170000
DTSTAMP:20260423T030540
CREATED:20180605T020136Z
LAST-MODIFIED:20180605T020136Z
UID:224-1528554600-1528563600@winstonknolls.org
SUMMARY:WKCA Annual Membership/Appreciation Picnic
DESCRIPTION:
URL:http://winstonknolls.org/meetings-events/wkca-annual-membership-appreciation-picnic/
LOCATION:Hanks Place\, Hanks Place\, Springfield\, Virginia\, 22153
END:VEVENT
END:VCALENDAR